<VRTDataset rasterXSize="926" rasterYSize="926">
  <SRS dataAxisToSRSAxisMapping="2,1">GEOGCS["WGS 84",DATUM["WGS_1984",SPHEROID["WGS 84",6378137,298.257223563,AUTHORITY["EPSG","7030"]],AUTHORITY["EPSG","6326"]],PRIMEM["Greenwich",0,AUTHORITY["EPSG","8901"]],UNIT["degree",0.0174532925199433,AUTHORITY["EPSG","9122"]],AXIS["Latitude",NORTH],AXIS["Longitude",EAST],AUTHORITY["EPSG","4326"]]</SRS>
  <GeoTransform>  0.0000000000000000e+00,  1.0797289880240060e-03,  0.0000000000000000e+00,  8.9000000000000000e+01,  0.0000000000000000e+00, -1.0797289880240060e-03</GeoTransform>
  <VRTRasterBand dataType="Int16" band="1">
    <NoDataValue>-1</NoDataValue>
    <ComplexSource>
      <SourceFilename relativeToVRT="1">nws_warnings_rt_20260506-133402.prepared-1778074443.band1.tif</SourceFilename>
      <SourceBand>1</SourceBand>
      <SourceProperties RasterXSize="926" RasterYSize="926" DataType="Int16" BlockXSize="926" BlockYSize="4" />
      <SrcRect xOff="0" yOff="0" xSize="926" ySize="926" />
      <DstRect xOff="0" yOff="0" xSize="926" ySize="926" />
      <NODATA>-1</NODATA>
    </ComplexSource>
  </VRTRasterBand>
</VRTDataset>
