<VRTDataset rasterXSize="1668" rasterYSize="3039">
  <SRS dataAxisToSRSAxisMapping="2,1">GEOGCS["WGS 84",DATUM["WGS_1984",SPHEROID["WGS 84",6378137,298.257223563,AUTHORITY["EPSG","7030"]],AUTHORITY["EPSG","6326"]],PRIMEM["Greenwich",0,AUTHORITY["EPSG","8901"]],UNIT["degree",0.0174532925199433,AUTHORITY["EPSG","9122"]],AXIS["Latitude",NORTH],AXIS["Longitude",EAST],AUTHORITY["EPSG","4326"]]</SRS>
  <GeoTransform> -8.2180539864494023e+01,  1.0797289880240060e-03,  0.0000000000000000e+00,  3.0250539864494012e+01,  0.0000000000000000e+00, -1.0797289880240060e-03</GeoTransform>
  <VRTRasterBand dataType="Int16" band="1">
    <NoDataValue>-1</NoDataValue>
    <ComplexSource>
      <SourceFilename relativeToVRT="1">firewx_day1_20260507_1200.prepared-1778155203.band1.tif</SourceFilename>
      <SourceBand>1</SourceBand>
      <SourceProperties RasterXSize="1668" RasterYSize="3039" DataType="Int16" BlockXSize="1668" BlockYSize="2" />
      <SrcRect xOff="0" yOff="0" xSize="1668" ySize="3039" />
      <DstRect xOff="0" yOff="0" xSize="1668" ySize="3039" />
      <NODATA>-1</NODATA>
    </ComplexSource>
  </VRTRasterBand>
</VRTDataset>
