<VRTDataset rasterXSize="3243" rasterYSize="5243">
  <SRS dataAxisToSRSAxisMapping="2,1">GEOGCS["WGS 84",DATUM["WGS_1984",SPHEROID["WGS 84",6378137,298.257223563,AUTHORITY["EPSG","7030"]],AUTHORITY["EPSG","6326"]],PRIMEM["Greenwich",0,AUTHORITY["EPSG","8901"]],UNIT["degree",0.0174532925199433,AUTHORITY["EPSG","9122"]],AXIS["Latitude",NORTH],AXIS["Longitude",EAST],AUTHORITY["EPSG","4326"]]</SRS>
  <GeoTransform> -1.0516053986449401e+02,  1.0797289880240060e-03,  0.0000000000000000e+00,  4.9110539864494008e+01,  0.0000000000000000e+00, -1.0797289880240060e-03</GeoTransform>
  <VRTRasterBand dataType="Int16" band="1">
    <NoDataValue>-1</NoDataValue>
    <ComplexSource>
      <SourceFilename relativeToVRT="1">firewx_day1_20260508_1200.prepared-1778241605.band1.tif</SourceFilename>
      <SourceBand>1</SourceBand>
      <SourceProperties RasterXSize="3243" RasterYSize="5243" DataType="Int16" BlockXSize="3243" BlockYSize="1" />
      <SrcRect xOff="0" yOff="0" xSize="3243" ySize="5243" />
      <DstRect xOff="0" yOff="0" xSize="3243" ySize="5243" />
      <NODATA>-1</NODATA>
    </ComplexSource>
  </VRTRasterBand>
</VRTDataset>
